BEGIN:VCALENDAR
VERSION:2.0
PRODID:-//eventon.com NONSGML v1.0//EN
CALSCALE:GREGORIAN
METHOD:PUBLISH
BEGIN:VEVENT
UID:69e9eb8bbdabf
DTSTAMP:20260423T095107Z
DTSTART:20250518T080000Z
DTEND:20250518T100000Z
LOCATION:The Arts Center @ 319 319 Main St\,  Smithfield\,  VA 23430
SUMMARY:Jewelry Workshop - Bezel a Focal Bead
DESCRIPTION:Sunday\,  May 18\,  2025: 1:00 – 3:00 pm Instructor: Diane M
 ilner This class will teach basic bead embroidery. Students will select a d
 ecorative button and embellish with Czech or Japanese glass seed beads. The
  class will focus on the sequence of stitching\,  application of the ultra-
 suede backing\,  and creating an attachment[..]\nhttps://saltysouthernroute
 .com/events/jewelry-workshop-bezel-a-focal-bead/
URL:https://saltysouthernroute.com/events/jewelry-workshop-bezel-a-focal-bead/
END:VEVENT
END:VCALENDAR