BEGIN:VCALENDAR
VERSION:2.0
PRODID:-//eventon.com NONSGML v1.0//EN
CALSCALE:GREGORIAN
METHOD:PUBLISH
BEGIN:VEVENT
UID:69e7430aa4439
DTSTAMP:20260421T092738Z
DTSTART:20250614T090000Z
DTEND:20250614T100000Z
LOCATION:Isle of Wight County Museum 15 S Church St\,  Smithfield\,  VA 23430
SUMMARY:Lunch & Learn: Flags over Isle of Wight County
DESCRIPTION:Today is National Flag Day. Join us as we present the various o
 fficial and unofficial flags observed flying in our county. You are invited
  to bring one (or more) flags you think we may have missed.\nhttps://saltys
 outhernroute.com/events/lunch-learn-flags-over-isle-of-wight-county/
URL:https://saltysouthernroute.com/events/lunch-learn-flags-over-isle-of-wight-county/
END:VEVENT
END:VCALENDAR