BEGIN:VCALENDAR
VERSION:2.0
PRODID:-//eventon.com NONSGML v1.0//EN
CALSCALE:GREGORIAN
METHOD:PUBLISH
BEGIN:VEVENT
UID:69e73010c4b99
DTSTAMP:20260421T080640Z
DTSTART:20260722T073000Z
DTEND:20260722T083000Z
LOCATION:Isle of Wight County Museum 15 S Church St\,  Smithfield\,  VA 23430
SUMMARY:Lunch & Learn: John Sinclair v. General John Marshall\,  1794
DESCRIPTION:Today is the 232nd anniversary of the town&#8217;s second most 
 dramatic event &#8211; the confrontation between accused &#8220;privateer&#
 8221; John Sinclair and U.S. Cavalry commander John Marshall\,  future Chie
 f Justice of the U.S. Supreme Court. Join us to learn the details of this l
 ocally infamous engagement and then take a short[..]\nhttps://saltysouthern
 route.com/events/lunch-learn-john-sinclair-v-general-john-marshall-1794/
URL:https://saltysouthernroute.com/events/lunch-learn-john-sinclair-v-general-john-marshall-1794/
END:VEVENT
END:VCALENDAR