BEGIN:VCALENDAR
VERSION:2.0
PRODID:-//eventon.com NONSGML v1.0//EN
CALSCALE:GREGORIAN
METHOD:PUBLISH
BEGIN:VEVENT
UID:69e72f77d3cb7
DTSTAMP:20260421T080407Z
DTSTART:20251003T210000Z
DTEND:20251003T230000Z
LOCATION:Surry County Pavilion adjacent to the Surry County Government Center. 45 School St\,  Surry\,  VA 23883
SUMMARY:First Fridays on the Lawn Concert Series
DESCRIPTION:First Fridays on the Lawn Concert Series\nhttps://saltysouthern
 route.com/events/first-fridays-on-the-lawn-concert-series-4/
URL:https://saltysouthernroute.com/events/first-fridays-on-the-lawn-concert-series-4/
END:VEVENT
END:VCALENDAR