BEGIN:VCALENDAR
VERSION:2.0
PRODID:-//eventon.com NONSGML v1.0//EN
CALSCALE:GREGORIAN
METHOD:PUBLISH
BEGIN:VEVENT
UID:69e8889edcce4
DTSTAMP:20260422T083646Z
DTSTART:20250727T080000Z
DTEND:20250727T100000Z
LOCATION:The Arts Center @ 319 319 Main St\,  Smithfield\,  VA 23430
SUMMARY:Jewelry Workshop - Leather Wrap Bracelet
DESCRIPTION:Instructor: Diane Milner A great beginner class. Students will 
 create a double strand bracelet featuring Czech glass seed beads\,  a Pewte
 r button\,  and leather cord. The class will focus on using the proper tool
 s for jewelry making\,  how and where to obtain components\,  and skills to
  create a well-executed and[..]\nhttps://saltysouthernroute.com/events/jewe
 lry-workshop-leather-wrap-bracelet/
URL:https://saltysouthernroute.com/events/jewelry-workshop-leather-wrap-bracelet/
END:VEVENT
END:VCALENDAR