BEGIN:VCALENDAR
VERSION:2.0
PRODID:-//eventon.com NONSGML v1.0//EN
CALSCALE:GREGORIAN
METHOD:PUBLISH
BEGIN:VEVENT
UID:69e754436c480
DTSTAMP:20260421T104107Z
DTSTART:20250608T190000Z
DTEND:20250608T210000Z
LOCATION:Vintage Tavern 1900 Governors Pointe Dr\,  Suffolk\,  VA 23436
SUMMARY:Jefferson's Bourbon Exclusive: Bourbon & Cigars on the Patio at Vintage Tavern
DESCRIPTION:Come enjoy a relaxing afternoon on our beautiful outdoor patio 
 featuring a hand-selected lineup of Jefferson&#8217;s Bourbon expressions\,
   chosen by our award-winning Bar Manager\,  Chandler Lacerte. These exclus
 ive pours will be thoughtfully paired with premium cigars from Bonds Fine C
 igar Shoppe. Tickets are $75 and include: • Four Jefferson&#8217;s Bourbo
 n[..]\nhttps://saltysouthernroute.com/events/jeffersons-bourbon-exclusive-b
 ourbon-cigars-on-the-patio-at-vintage-tavern/
URL:https://saltysouthernroute.com/events/jeffersons-bourbon-exclusive-bourbon-cigars-on-the-patio-at-vintage-tavern/
END:VEVENT
END:VCALENDAR