BEGIN:VCALENDAR
VERSION:2.0
PRODID:-//eventon.com NONSGML v1.0//EN
CALSCALE:GREGORIAN
METHOD:PUBLISH
BEGIN:VEVENT
UID:69e8892615245
DTSTAMP:20260422T083902Z
DTSTART:20250906T160000Z
DTEND:20250907T020000Z
LOCATION:Decoys Seafood 3305 Ferry Rd\,  Suffolk\,  VA 23435
SUMMARY:Jimmy Buffett Tribute at Decoys Seafood
DESCRIPTION:Calling all Parrot Heads! Grab your fins and make your way to o
 ur annual Jimmy Buffett Tribute. Celebrate the music\,  legacy\,  and vibes
  of all things Jimmy Buffett. Enjoy delicious food &amp; drink specials Sin
 g along to your favorite Jimmy hits with the Tiki Bar Band. Performing live
  from 2-5PM.[..]\nhttps://saltysouthernroute.com/events/jimmy-buffett-tribu
 te-at-decoys-seafood/
URL:https://saltysouthernroute.com/events/jimmy-buffett-tribute-at-decoys-seafood/
END:VEVENT
END:VCALENDAR