BEGIN:VCALENDAR
VERSION:2.0
PRODID:-//eventon.com NONSGML v1.0//EN
CALSCALE:GREGORIAN
METHOD:PUBLISH
BEGIN:VEVENT
UID:69e888be30048
DTSTAMP:20260422T083718Z
DTSTART:20250918T180000Z
DTEND:20250918T220000Z
LOCATION:Surry County Pavilion 45 School St\,  Surry\,  VA 23883
SUMMARY:Pop-Up Farmers Market
DESCRIPTION:Pop-Up Farmers Market\nhttps://saltysouthernroute.com/events/po
 p-up-farmers-market-18/
URL:https://saltysouthernroute.com/events/pop-up-farmers-market-18/
END:VEVENT
END:VCALENDAR