BEGIN:VCALENDAR
VERSION:2.0
PRODID:-//eventon.com NONSGML v1.0//EN
CALSCALE:GREGORIAN
METHOD:PUBLISH
BEGIN:VEVENT
UID:69e5e923d65b1
DTSTAMP:20260420T085147Z
DTSTART:20250621T140000Z
DTEND:20250621T190000Z
LOCATION:
SUMMARY:Archeology Days at Smith's Fort
DESCRIPTION:Archeology Days at Smith's Fort\nhttps://saltysouthernroute.com
 /events/archeology-days-at-smiths-fort-4/
URL:https://saltysouthernroute.com/events/archeology-days-at-smiths-fort-4/
END:VEVENT
END:VCALENDAR