BEGIN:VCALENDAR
VERSION:2.0
PRODID:-//eventon.com NONSGML v1.0//EN
CALSCALE:GREGORIAN
METHOD:PUBLISH
BEGIN:VEVENT
UID:69e7301c2aefd
DTSTAMP:20260421T080652Z
DTSTART:20251206T150000Z
DTEND:20251207T210000Z
LOCATION:Maelynn Meadows 5669 Spivey Run Rd\,  Suffolk\,  VA 23438
SUMMARY:Christmas Market at Maelynn Meadows
DESCRIPTION:Come start your Holiday Traditions with us this year at the 6th
  Annual Christmas Market at Maelynn Meadows! Sponsored and Hosted this year
  by the Martina Natoli Lagman Foundation. The Market Has become a Popular E
 vent for the community and surrounding Areas. Located in South Suffolk in t
 he Sweetest little[..]\nhttps://saltysouthernroute.com/events/christmas-mar
 ket-at-maelynn-meadows/
URL:https://saltysouthernroute.com/events/christmas-market-at-maelynn-meadows/
END:VEVENT
END:VCALENDAR