BEGIN:VCALENDAR
VERSION:2.0
PRODID:-//eventon.com NONSGML v1.0//EN
CALSCALE:GREGORIAN
METHOD:PUBLISH
BEGIN:VEVENT
UID:69e72f29788bd
DTSTAMP:20260421T080249Z
DTSTART:20251004T140000Z
DTEND:20251004T220000Z
LOCATION:Downtown Suffolk Washington St & Main St\,  Franklinton\,  LA 70438
SUMMARY:Suffolk Peanut Fest Parade
DESCRIPTION:Kick off the 47th Annual Suffolk Peanut Fest with the beloved P
 eanut Fest Parade! This festive procession winds through historic downtown 
 Suffolk\,  showcasing vibrant floats\,  marching bands\,  community groups\
 ,  and more. The parade begins in the Lakeside neighborhood\,  proceeds dow
 n Washington Street\,  turns onto North Main Street\,  and concludes at[..]
 \nhttps://saltysouthernroute.com/events/suffolk-peanut-fest-parade/
URL:https://saltysouthernroute.com/events/suffolk-peanut-fest-parade/
END:VEVENT
END:VCALENDAR