BEGIN:VCALENDAR
VERSION:2.0
PRODID:-//eventon.com NONSGML v1.0//EN
CALSCALE:GREGORIAN
METHOD:PUBLISH
BEGIN:VEVENT
UID:69e742e5acf7c
DTSTAMP:20260421T092701Z
DTSTART:20251107T223000Z
DTEND:20251108T023000Z
LOCATION:Maelynn Meadows 5669 Spivey Run Rd\,  Suffolk\,  VA 23438
SUMMARY:Boots Bourbon & BBQ
DESCRIPTION:Come on down to Maelynn Meadows for a good ol&#8217; time at ou
 r Boots\,  Bourbon\,  &amp; BBQ event! Get ready to kick up your heels\, 
  sip on some smooth bourbon\,  and chow down on delicious BBQ. It&#8217;s g
 onna be a hootenanny you won&#8217;t want to miss! Tasting 5:30-6:30pm Dinn
 er 6:30-7:30pm The band[..]\nhttps://saltysouthernroute.com/events/boots-bo
 urbon-bbq/
URL:https://saltysouthernroute.com/events/boots-bourbon-bbq/
END:VEVENT
END:VCALENDAR