BEGIN:VCALENDAR
VERSION:2.0
PRODID:-//eventon.com NONSGML v1.0//EN
CALSCALE:GREGORIAN
METHOD:PUBLISH
BEGIN:VEVENT
UID:69eb2c78c44bb
DTSTAMP:20260424T084024Z
DTSTART:20250927T120000Z
DTEND:20250927T160000Z
LOCATION:The Fiddlin' Pig 100 Main St\,  Smithfield\,  VA 23430
SUMMARY:British Invasion Bash - 60's Theme Party
DESCRIPTION:Join us at The Fiddlin&#8217; Pig as we are throw it back to th
 e time of the British Invasion with a 60s theme party! Join us after the Au
 tumn Vintage Market along Main Street on September 27. There will be food a
 nd drink specials\,  a costume contest\,  and music from[..]\nhttps://salty
 southernroute.com/events/british-invasion-bash-60s-theme-party/
URL:https://saltysouthernroute.com/events/british-invasion-bash-60s-theme-party/
END:VEVENT
END:VCALENDAR