BEGIN:VCALENDAR
VERSION:2.0
PRODID:-//eventon.com NONSGML v1.0//EN
CALSCALE:GREGORIAN
METHOD:PUBLISH
BEGIN:VEVENT
UID:69e72e0563246
DTSTAMP:20260421T075757Z
DTSTART:20260926T130000Z
DTEND:20260926T160000Z
LOCATION:Constant's Wharf Park &amp; Marina 110 E Constance Rd\,  Suffolk\,  VA 23434
SUMMARY:Nansemond River Cleanup
DESCRIPTION:SEPTEMBER 26th\,  2025      9 A.M. – NOON WHERE – Consta
 nt&#8217;s Wharf Park and Marina Volunteer on land or in your canoe or kaya
 k. Grab your kayaks and join us for the Nansemond River Cleanup on Septembe
 r 26th! This annual regional event is organized by Keep Suffolk Beautiful a
 nd[..]\nhttps://saltysouthernroute.com/events/nansemond-river-cleanup/
URL:https://saltysouthernroute.com/events/nansemond-river-cleanup/
END:VEVENT
END:VCALENDAR