BEGIN:VCALENDAR
VERSION:2.0
PRODID:-//eventon.com NONSGML v1.0//EN
CALSCALE:GREGORIAN
METHOD:PUBLISH
BEGIN:VEVENT
UID:69e5ebdd54948
DTSTAMP:20260420T090325Z
DTSTART:20251023T210000Z
DTEND:20251023T230000Z
LOCATION:
SUMMARY:Downtown Franklin BOO Bash
DESCRIPTION:\nhttps://saltysouthernroute.com/events/downtown-franklin-boo-b
 ash/
URL:https://saltysouthernroute.com/events/downtown-franklin-boo-bash/
END:VEVENT
END:VCALENDAR