BEGIN:VCALENDAR
VERSION:2.0
PRODID:-//eventon.com NONSGML v1.0//EN
CALSCALE:GREGORIAN
METHOD:PUBLISH
BEGIN:VEVENT
UID:69e742c5413bd
DTSTAMP:20260421T092629Z
DTSTART:20250927T130000Z
DTEND:20250927T220000Z
LOCATION:Hillpoint Elementary School 1101 Hillpoint Rd\,  Suffolk\,  VA 23434
SUMMARY:Suffolk-VA Chapter of The Links\,  Incorporated's Healthy Walk
DESCRIPTION:The Suffolk (VA) of the Links\,  Incorporated invites the commu
 nity to lace up their sneakers and take part in a Healthy Walk on September
  27th\,  2025\,  @ 9 a.m.\,  starting from Hillpoint Elementary School loca
 ted at 1101 Hillpoint Road in Suffolk Virgina. This free\,  family-friendly
  event is designed to encourage[..]\nhttps://saltysouthernroute.com/events/
 suffolk-va-chapter-of-the-links-incorporateds-healthy-walk/
URL:https://saltysouthernroute.com/events/suffolk-va-chapter-of-the-links-incorporateds-healthy-walk/
END:VEVENT
END:VCALENDAR