BEGIN:VCALENDAR
VERSION:2.0
PRODID:-//eventon.com NONSGML v1.0//EN
CALSCALE:GREGORIAN
METHOD:PUBLISH
BEGIN:VEVENT
UID:69e5fddf973e3
DTSTAMP:20260420T102015Z
DTSTART:20251026T230000Z
DTEND:20251027T020000Z
LOCATION:
SUMMARY:Haunted Barn
DESCRIPTION:Haunted Barn\nhttps://saltysouthernroute.com/events/haunted-bar
 n-2/
URL:https://saltysouthernroute.com/events/haunted-barn-2/
END:VEVENT
END:VCALENDAR