BEGIN:VCALENDAR
VERSION:2.0
PRODID:-//eventon.com NONSGML v1.0//EN
CALSCALE:GREGORIAN
METHOD:PUBLISH
BEGIN:VEVENT
UID:69e7431dd87fe
DTSTAMP:20260421T092757Z
DTSTART:20251219T170000Z
DTEND:20251220T010000Z
LOCATION:Suffolk Center for Cultural Arts 110 Finney Ave\,  Suffolk\,  VA 23434
SUMMARY:Rudolph's Holiday Market
DESCRIPTION:Stop by and shop for last minute presents during Suffolk Cultur
 al Arts Center&#8217;s Rudolph&#8217;s Holiday Market December 19 from 12-8
  p.m. and December 20 from 2-8 p.m. This indoor farmer&#8217;s market featu
 res handcrafted gifts from local vendors and much more. For more informatio
 n\,  visit suffolkcenter.org or call 757-923-0003.\nhttps://saltysouthernro
 ute.com/events/rudolphs-holiday-market/
URL:https://saltysouthernroute.com/events/rudolphs-holiday-market/
END:VEVENT
END:VCALENDAR