BEGIN:VCALENDAR
VERSION:2.0
PRODID:-//eventon.com NONSGML v1.0//EN
CALSCALE:GREGORIAN
METHOD:PUBLISH
BEGIN:VEVENT
UID:69e7437c4f806
DTSTAMP:20260421T092932Z
DTSTART:20251129T170000Z
DTEND:20251129T230000Z
LOCATION:Decoys Seafood 3305 Ferry Rd\,  Suffolk\,  VA 23435
SUMMARY:Decoys Seafood Annual Oyster Roast
DESCRIPTION:Shuck\,  sip\,  and savor with us at Decoys! Our Annual Oyster 
 Roast returns with all-you-can-eat oysters\,  Brunswick stew\,  select beer
 s\,  and incredible river views. Bring your own shucker or grab one onsite 
 — let&#8217;s make a day of it!\nhttps://saltysouthernroute.com/events/de
 coys-seafood-annual-oyster-roast/
URL:https://saltysouthernroute.com/events/decoys-seafood-annual-oyster-roast/
END:VEVENT
END:VCALENDAR