BEGIN:VCALENDAR
VERSION:2.0
PRODID:-//eventon.com NONSGML v1.0//EN
CALSCALE:GREGORIAN
METHOD:PUBLISH
BEGIN:VEVENT
UID:69eb2cc6cb64f
DTSTAMP:20260424T084142Z
DTSTART:20260516T140000Z
DTEND:20260516T220000Z
LOCATION:Riddick's Folly House Museum 510 N Main St\,  Suffolk\,  VA 23434
SUMMARY:American Girl Program: Featuring Samantha Parkington
DESCRIPTION:It&#8217;s the return of the popular American Girl Program\,  f
 eaturing Samantha Parkington\,  on Saturday\,  May 16\,  2026\,  at Riddick
 &#8217;s Folly House Museum! “Samantha Parkington\, ” nicknamed Sam\,  
 is an orphan who\,  at the start of the series\,  is living with old-fashio
 ned Granmary\,  year 1904\,  Victorian-era girl. (tea party event) There wi
 ll[..]\nhttps://saltysouthernroute.com/events/american-girl-program-featuri
 ng-samantha-parkington/
URL:https://saltysouthernroute.com/events/american-girl-program-featuring-samantha-parkington/
END:VEVENT
END:VCALENDAR