BEGIN:VCALENDAR
VERSION:2.0
PRODID:-//eventon.com NONSGML v1.0//EN
CALSCALE:GREGORIAN
METHOD:PUBLISH
BEGIN:VEVENT
UID:69e9da80df275
DTSTAMP:20260423T083824Z
DTSTART:20260224T130000Z
DTEND:20260328T220000Z
LOCATION:Suffolk Center for Cultural Arts 110 Finney Ave\,  Suffolk\,  VA 23434
SUMMARY:37th Annual Young Artist & Authors Showcase
DESCRIPTION:On exhibit February 24 – March 28 at the Suffolk Center for C
 ultural Arts Tuesday – Saturday: 10 am to 4 pm Awards Ceremony – Tuesda
 y\,  February 24 from 6:30-8 pm Sister Cities International is proud to pre
 sent the 2026 Young Artists and Authors Showcase\,  inviting youth from aro
 und the[..]\nhttps://saltysouthernroute.com/events/37th-annual-young-artist
 -authors-showcase/
URL:https://saltysouthernroute.com/events/37th-annual-young-artist-authors-showcase/
END:VEVENT
END:VCALENDAR