BEGIN:VCALENDAR
VERSION:2.0
PRODID:-//eventon.com NONSGML v1.0//EN
CALSCALE:GREGORIAN
METHOD:PUBLISH
BEGIN:VEVENT
UID:69e7433f33143
DTSTAMP:20260421T092831Z
DTSTART:20260207T193000Z
DTEND:20260207T213000Z
LOCATION:
SUMMARY:Every Brilliant Thing
DESCRIPTION:As part of Renewal – The Art of Healing\,  Rawls Museum Arts 
 is proud to host Every Brilliant Thing\,  presented by the Virginia Stage C
 ompany and generously supported by Sentara.  FREE and open to the public T
 his one-hour performance blends comedy\,  improvisation\,  and audience int
 eraction to tell the story of[..]\nhttps://saltysouthernroute.com/events/ev
 ery-brilliant-thing/
URL:https://saltysouthernroute.com/events/every-brilliant-thing/
END:VEVENT
END:VCALENDAR