BEGIN:VCALENDAR
VERSION:2.0
PRODID:-//eventon.com NONSGML v1.0//EN
CALSCALE:GREGORIAN
METHOD:PUBLISH
BEGIN:VEVENT
UID:69e888f9e1539
DTSTAMP:20260422T083817Z
DTSTART:20260221T153000Z
DTEND:20260221T163000Z
LOCATION:Morgan Memorial Library 443 W Washington St\,  Suffolk\,  VA 23434
SUMMARY:Legendary YOU! Be the Hero: John Henry
DESCRIPTION:The tasks of Hercules and the Epic of Gilgamesh are only the be
 ginning! Complete your own mythical feats proving your strength and cunning
  inspired by legends of folklore! Learn and play through different myths fr
 om all around the world! For this session\,  we will be focusing on folk he
 ro and[..]\nhttps://saltysouthernroute.com/events/legendary-you-be-the-hero
 -john-henry/
URL:https://saltysouthernroute.com/events/legendary-you-be-the-hero-john-henry/
END:VEVENT
END:VCALENDAR