BEGIN:VCALENDAR
VERSION:2.0
PRODID:-//eventon.com NONSGML v1.0//EN
CALSCALE:GREGORIAN
METHOD:PUBLISH
BEGIN:VEVENT
UID:69e5fe9850435
DTSTAMP:20260420T102320Z
DTSTART:20260321T203000Z
DTEND:20260322T010000Z
LOCATION:
SUMMARY:Spring Homerun Concert
DESCRIPTION:Sedley Recreation Association presents Spring Homerun Concert F
 ood provided with ticket purchase\,  along with live music from Silver Stre
 et and Love Tribe.\nhttps://saltysouthernroute.com/events/spring-homerun-co
 ncert/
URL:https://saltysouthernroute.com/events/spring-homerun-concert/
END:VEVENT
END:VCALENDAR