BEGIN:VCALENDAR
VERSION:2.0
PRODID:-//eventon.com NONSGML v1.0//EN
CALSCALE:GREGORIAN
METHOD:PUBLISH
BEGIN:VEVENT
UID:69e887750f46a
DTSTAMP:20260422T083149Z
DTSTART:20260211T230000Z
DTEND:20260212T000000Z
LOCATION:North Suffolk Library 2000 Bennetts Creek Park Rd\,  Suffolk\,  VA 23435
SUMMARY:A Vintage Valentine's
DESCRIPTION:Create a whimsical\,  timeless Valentine&#8217;s Day card and a
  custom box of sweets! Use collage techniques to create moving and pop-up m
 id-century-inspired cards or design your own Victorian puzzle purse. Then c
 hoose from our candy buffet to create a giftable box\,  complete with a bow
 ! Bring your loved one for[..]\nhttps://saltysouthernroute.com/events/a-vin
 tage-valentines/
URL:https://saltysouthernroute.com/events/a-vintage-valentines/
END:VEVENT
END:VCALENDAR