BEGIN:VCALENDAR
VERSION:2.0
PRODID:-//eventon.com NONSGML v1.0//EN
CALSCALE:GREGORIAN
METHOD:PUBLISH
BEGIN:VEVENT
UID:69e5ee5ac7b41
DTSTAMP:20260420T091402Z
DTSTART:20260314T120000Z
DTEND:20260314T160000Z
LOCATION:The Fiddlin' Pig 100 Main St\,  Smithfield\,  VA 23430
SUMMARY:St. Patrick's Party at the Pub
DESCRIPTION:The Fiddlin Pig is celebrating St. Patrick&#8217;s Day with a p
 arty at the pub! Jack Becker will perform live music from 5-9 pm. Don&#8217
 ;t forget to wear your green!\nhttps://saltysouthernroute.com/events/st-pat
 ricks-party-at-the-pub/
URL:https://saltysouthernroute.com/events/st-patricks-party-at-the-pub/
END:VEVENT
END:VCALENDAR