BEGIN:VCALENDAR
VERSION:2.0
PRODID:-//eventon.com NONSGML v1.0//EN
CALSCALE:GREGORIAN
METHOD:PUBLISH
BEGIN:VEVENT
UID:69e72f956c4df
DTSTAMP:20260421T080437Z
DTSTART:20260314T130000Z
DTEND:20260314T160000Z
LOCATION:Constant's Wharf Park &amp; Marina 110 E Constance Rd\,  Suffolk\,  VA 23434
SUMMARY:St. Patrick's Day River Cleanup
DESCRIPTION:Join us for the St. Patrick&#8217;s Day River Cleanup on Saturd
 ay\,  March 14\,  2026\,  from 9:00 AM to 12:00 PM. This community cleanup 
 effort will take place on both land and water and is open to individuals\, 
  families\,  and groups. Meeting Location:Constant&#8217;s Wharf Park &amp;
  Marina100 East Constance Rd.\,  Suffolk\, [..]\nhttps://saltysouthernroute
 .com/events/st-patricks-day-river-cleanup/
URL:https://saltysouthernroute.com/events/st-patricks-day-river-cleanup/
END:VEVENT
END:VCALENDAR