BEGIN:VCALENDAR
VERSION:2.0
PRODID:-//eventon.com NONSGML v1.0//EN
CALSCALE:GREGORIAN
METHOD:PUBLISH
BEGIN:VEVENT
UID:69e7434858715
DTSTAMP:20260421T092840Z
DTSTART:20260502T130000Z
DTEND:20260502T160000Z
LOCATION:Sleepy Hole Park 4616 Sleepy Hole Rd\,  Suffolk\,  VA 23435
SUMMARY:Clean the Bay Day
DESCRIPTION:Individuals with access to kayaks or canoes are encouraged to b
 ring their watercraft to assist with waterway cleanups. Volunteers who pref
 er to remain on land are equally needed and welcomed. All participants will
  be provided with necessary cleanup supplies\,  including grabbers\,  safet
 y vests\,  gloves\,  and trash bags. For those without[..]\nhttps://saltyso
 uthernroute.com/events/clean-the-bay-day/
URL:https://saltysouthernroute.com/events/clean-the-bay-day/
END:VEVENT
END:VCALENDAR