BEGIN:VCALENDAR
VERSION:2.0
PRODID:-//eventon.com NONSGML v1.0//EN
CALSCALE:GREGORIAN
METHOD:PUBLISH
BEGIN:VEVENT
UID:69e621202d951
DTSTAMP:20260420T125040Z
DTSTART:20260516T130000Z
DTEND:20260516T190000Z
LOCATION:Little Acre Farm 7981 Carr Ln\,  Suffolk\,  VA 23437
SUMMARY:3rd Annual Spring Market on the Farm
DESCRIPTION:Come out for a day of family fun!Vendors\,  food and animals at
  Little Acre Farm LLC\nhttps://saltysouthernroute.com/events/3rd-annual-spr
 ing-market-on-the-farm/
URL:https://saltysouthernroute.com/events/3rd-annual-spring-market-on-the-farm/
END:VEVENT
END:VCALENDAR