BEGIN:VCALENDAR
VERSION:2.0
PRODID:-//eventon.com NONSGML v1.0//EN
CALSCALE:GREGORIAN
METHOD:PUBLISH
BEGIN:VEVENT
UID:69e5eb2c5982f
DTSTAMP:20260420T090028Z
DTSTART:20260313T233000Z
DTEND:20260314T010000Z
LOCATION:
SUMMARY:The Next Generation Leahy
DESCRIPTION:Belying their young ages\,  these siblings are all accomplished
  multi-instrumentalists whose live performances are filled with high-energy
 \,  mesmerizing music that goes hand-in-hand with the famous Leahy name. Fe
 aturing fiddle\,  cello\,  French accordion\,  vocals\,  piano\,  guitar\, 
  bass\,  and\,  of course\,  the iconic Leahy-style French-Canadian step-da
 ncing\,  this group lights up every stage[..]\nhttps://saltysouthernroute.c
 om/events/the-next-generation-leahy/
URL:https://saltysouthernroute.com/events/the-next-generation-leahy/
END:VEVENT
END:VCALENDAR