BEGIN:VCALENDAR
VERSION:2.0
PRODID:-//eventon.com NONSGML v1.0//EN
CALSCALE:GREGORIAN
METHOD:PUBLISH
BEGIN:VEVENT
UID:69e5ee9cc8889
DTSTAMP:20260420T091508Z
DTSTART:20260307T150000Z
DTEND:20260307T180000Z
LOCATION:Suffolk Visitor Center Pavilion 524 N Main St\,  Suffolk\,  VA 23434
SUMMARY:2026 Winter Suffolk Farmers Market
DESCRIPTION:Join us for Suffolk Tourism&#8217;s winter edition of the Suffo
 lk Farmers&#8217; Market! The winter market is an open-air gathering place 
 featuring fresh\,  locally grown foods\,  jams/jellies\,  meats\,  and bake
 d goods. The first market will take place on Saturday\,  February 7\,  2026
 \,  from 10am-1pm. Subsequent markets will be held on the[..]\nhttps://salt
 ysouthernroute.com/events/2026-winter-suffolk-farmers-market/
URL:https://saltysouthernroute.com/events/2026-winter-suffolk-farmers-market/
END:VEVENT
END:VCALENDAR