BEGIN:VCALENDAR
VERSION:2.0
PRODID:-//eventon.com NONSGML v1.0//EN
CALSCALE:GREGORIAN
METHOD:PUBLISH
BEGIN:VEVENT
UID:69e885e9904cf
DTSTAMP:20260422T082513Z
DTSTART:20260321T150000Z
DTEND:20260321T180000Z
LOCATION:Bennett's Creek Park 3000 Bennetts Creek Park Rd\,  Suffolk\,  VA 23435
SUMMARY:Eggstravaganza
DESCRIPTION:Join us for our annual egg hunt! This event will have your kids
  hopping for joy. Enjoy a petting zoo\,  crafts\,  music &amp; more. Peter 
 Cottontail will arrive at 11:15 AM! Egg Hunts will be held at 11:45 a.m.\, 
  12:15 p.m.\, 12:45 p.m.\,  and 1:15 p.m. Each time slot will host[..]\nhtt
 ps://saltysouthernroute.com/events/eggstravaganza/
URL:https://saltysouthernroute.com/events/eggstravaganza/
END:VEVENT
END:VCALENDAR