BEGIN:VCALENDAR
VERSION:2.0
PRODID:-//eventon.com NONSGML v1.0//EN
CALSCALE:GREGORIAN
METHOD:PUBLISH
BEGIN:VEVENT
UID:69e5fe3d9f05d
DTSTAMP:20260420T102149Z
DTSTART:20260314T220000Z
DTEND:20260314T220000Z
LOCATION:Westside at the Silos 1780 Bridgeport Way\,  Suffolk\,  VA 23435
SUMMARY:St. Patrick's Day at The Silos!
DESCRIPTION:Join us for St. Patrick&#8217;s Day at the Silos!Irish food and
  beverage specials.Live music starts at 6pm with Across The Pond – Irish 
 BandFollowed by Triptonic DJ Set from 9-Midnight We&#8217;ll have the rooft
 op bar open until 10!\nhttps://saltysouthernroute.com/events/st-patricks-da
 y-at-the-silos/
URL:https://saltysouthernroute.com/events/st-patricks-day-at-the-silos/
END:VEVENT
END:VCALENDAR