BEGIN:VCALENDAR
VERSION:2.0
PRODID:-//eventon.com NONSGML v1.0//EN
CALSCALE:GREGORIAN
METHOD:PUBLISH
BEGIN:VEVENT
UID:69e88c7f1ee5d
DTSTAMP:20260422T085319Z
DTSTART:20260418T210000Z
DTEND:20260418T220000Z
LOCATION:Hilton Garden Inn Suffolk Riverfront 100 E Constance Rd\,  Suffolk\,  VA 23434
SUMMARY:Coalition Against Poverty in Suffolk (CAPS) 4th Annual Blessings Banquet Fundraiser
DESCRIPTION:The Coalition Against Poverty in Suffolk (CAPS) invites you to 
 join us for our Fourth Annual Blessings Banquet Fundraiser Dinner\,  an eve
 ning dedicated to meeting needs and transforming lives in our community. Th
 is special event brings together community leaders\,  supporters\,  and par
 tners who believe in strengthening Suffolk by helping individuals[..]\nhttp
 s://saltysouthernroute.com/events/coalition-against-poverty-in-suffolk-caps
 -4th-annual-blessings-banquet-fundraiser/
URL:https://saltysouthernroute.com/events/coalition-against-poverty-in-suffolk-caps-4th-annual-blessings-banquet-fundraiser/
END:VEVENT
END:VCALENDAR