BEGIN:VCALENDAR
VERSION:2.0
PRODID:-//eventon.com NONSGML v1.0//EN
CALSCALE:GREGORIAN
METHOD:PUBLISH
BEGIN:VEVENT
UID:69eb2bc60b57a
DTSTAMP:20260424T083726Z
DTSTART:20260422T130000Z
DTEND:20260422T190000Z
LOCATION:Tidewater Agricultural Research and Extension Center 6321 Holland Rd\,  Suffolk\,  VA 23437
SUMMARY:AG Tech Expo
DESCRIPTION:Calling all stakeholders! Growers\,  ranchers\,  extension agen
 ts\,  researchers\,  companies\,  and government agencies are invited to in
 teract with some of the latest technological advancements in agriculture! â
 €¢ Equipment displays and demonstrations â€¢ One-on-one stakeholder interac
 tions â€¢ Research presentations â€¢ Private pesticide applicator recertifi
 cation credits offered â€¢ General admission is free and[..]\nhttps://salty
 southernroute.com/events/ag-tech-expo/
URL:https://saltysouthernroute.com/events/ag-tech-expo/
END:VEVENT
END:VCALENDAR