BEGIN:VCALENDAR
VERSION:2.0
PRODID:-//eventon.com NONSGML v1.0//EN
CALSCALE:GREGORIAN
METHOD:PUBLISH
BEGIN:VEVENT
UID:69eb2cb805a38
DTSTAMP:20260424T084128Z
DTSTART:20260502T130000Z
DTEND:20260502T170000Z
LOCATION:Suffolk Visitor Center Pavilion 524 N Main St\,  Suffolk\,  VA 23434
SUMMARY:2026 Suffolk Farmers' Market Season
DESCRIPTION:The Suffolk Farmers&#8217; Market is now offered year-round at 
 the Suffolk Visitor Center Pavilion! The Suffolk Farmers&#8217; Market is a
  hometown favorite\,  and features fresh locally grown fruits and vegetable
 s\,  baked goods\,  meats and eggs\,  jams and jellies\,  honey\,  pickles\
 ,  and handmade artisan crafts. Live music\,  food trucks\,  and more.[..]\
 nhttps://saltysouthernroute.com/events/2026-suffolk-farmers-market-season/
URL:https://saltysouthernroute.com/events/2026-suffolk-farmers-market-season/
END:VEVENT
END:VCALENDAR