BEGIN:VCALENDAR
VERSION:2.0
PRODID:-//eventon.com NONSGML v1.0//EN
CALSCALE:GREGORIAN
METHOD:PUBLISH
BEGIN:VEVENT
UID:69eb31725397c
DTSTAMP:20260424T090138Z
DTSTART:20260502T160000Z
DTEND:20260502T190000Z
LOCATION:Suffolk Seaboard Station Railroad Museum 326 N Main St\,  Suffolk\,  VA 23434
SUMMARY:Seaboard Station Railroad Museum's “Sneak Peek”
DESCRIPTION:Catch a glimpse of the newly renovated Seaboard Station Railroa
 d Museum as the finishing touches are being made for the grand re-opening.
 \nhttps://saltysouthernroute.com/events/seaboard-station-railroad-museums-s
 neak-peek/
URL:https://saltysouthernroute.com/events/seaboard-station-railroad-museums-sneak-peek/
END:VEVENT
END:VCALENDAR